BEGIN:VCALENDAR
VERSION:2.0
PRODID:-//Fachwartverein Ludwigsburg - ECPv6.15.20//NONSGML v1.0//EN
CALSCALE:GREGORIAN
METHOD:PUBLISH
X-WR-CALNAME:Fachwartverein Ludwigsburg
X-ORIGINAL-URL:https://fachwartverein-ludwigsburg.de
X-WR-CALDESC:Veranstaltungen für Fachwartverein Ludwigsburg
REFRESH-INTERVAL;VALUE=DURATION:PT1H
X-Robots-Tag:noindex
X-PUBLISHED-TTL:PT1H
BEGIN:VTIMEZONE
TZID:Europe/Berlin
BEGIN:DAYLIGHT
TZOFFSETFROM:+0100
TZOFFSETTO:+0200
TZNAME:CEST
DTSTART:20240331T010000
END:DAYLIGHT
BEGIN:STANDARD
TZOFFSETFROM:+0200
TZOFFSETTO:+0100
TZNAME:CET
DTSTART:20241027T010000
END:STANDARD
BEGIN:DAYLIGHT
TZOFFSETFROM:+0100
TZOFFSETTO:+0200
TZNAME:CEST
DTSTART:20250330T010000
END:DAYLIGHT
BEGIN:STANDARD
TZOFFSETFROM:+0200
TZOFFSETTO:+0100
TZNAME:CET
DTSTART:20251026T010000
END:STANDARD
BEGIN:DAYLIGHT
TZOFFSETFROM:+0100
TZOFFSETTO:+0200
TZNAME:CEST
DTSTART:20260329T010000
END:DAYLIGHT
BEGIN:STANDARD
TZOFFSETFROM:+0200
TZOFFSETTO:+0100
TZNAME:CET
DTSTART:20261025T010000
END:STANDARD
END:VTIMEZONE
BEGIN:VEVENT
DTSTART;TZID=Europe/Berlin:20251202T190000
DTEND;TZID=Europe/Berlin:20251202T220000
DTSTAMP:20260419T232021
CREATED:20250119T091626Z
LAST-MODIFIED:20250211T060649Z
UID:6511-1764702000-1764712800@fachwartverein-ludwigsburg.de
SUMMARY:Stammtisch Pomologen-Verein Ilsfeld
DESCRIPTION:Veranstaltungsart: offen\, Stammtisch \nZielgruppe: Interessierte \nVeranstalter: Pomologen-Verein \nAnsprechpartner: Christian König christian.koenig@pomologen-verein.de \n  \nAm 02.12.2025 ab 19:00Uhr findet der Stammtisch der Landesgruppe Baden-Württemberg des Pomologen-Vereins statt.\nDer Stammtisch findet immer am 1. Dienstag im Monat statt (ausgenommen Januar und August) und beginnt immer um 19:00Uhr. \nUm 19:15Uhr beginnt ein moderierter Teil in Form eines Vortrags. \n  \nDas Thema wird immer kurzfristig bekannt gegeben. \n  \n  \nZum Stammtisch sind alle Interessierten (auch Nichtmitglieder) herzlich eingeladen. \nAlle Termine des Stammtischs in Ilsfeld und Ebersbach sind hier einsehbar: Termine Pomologen-Verein Landesgruppe BW \nDie Teilnahme ist kostenlos eine Anmeldung ist nicht erforderlich. \n  \nOrt:\nGasthof Häußermann’s Ochsen\nKönig-Wilhelm-Straße 31\n74360 Ilsfeld \nhttps://www.ochsen-ilsfeld.de/
URL:https://fachwartverein-ludwigsburg.de/termin/stammtisch-pomologen-verein-ilsfeld-11/
LOCATION:Häußermann’s Ochsen\, König-Wilhelm-Str. 31\, Ilsfeld\, 74360
CATEGORIES:Externe Veranstaltung,Fest,Offene Veranstaltung,Präsenzveranstaltung,Stammtisch
ATTACH;FMTTYPE=image/jpeg:https://fachwartverein-ludwigsburg.de/wp-content/uploads/pomologenverein.jpg
ORGANIZER;CN="Pomologen-Verein e.V. Landesgruppe BW":MAILTO:christian.koenig@pomologen-verein.de
END:VEVENT
END:VCALENDAR