BEGIN:VCALENDAR
VERSION:2.0
PRODID:-//Fachwartverein Ludwigsburg - ECPv6.15.20//NONSGML v1.0//EN
CALSCALE:GREGORIAN
METHOD:PUBLISH
X-ORIGINAL-URL:https://fachwartverein-ludwigsburg.de
X-WR-CALDESC:Veranstaltungen für Fachwartverein Ludwigsburg
REFRESH-INTERVAL;VALUE=DURATION:PT1H
X-Robots-Tag:noindex
X-PUBLISHED-TTL:PT1H
BEGIN:VTIMEZONE
TZID:Europe/Berlin
BEGIN:DAYLIGHT
TZOFFSETFROM:+0100
TZOFFSETTO:+0200
TZNAME:CEST
DTSTART:20240331T010000
END:DAYLIGHT
BEGIN:STANDARD
TZOFFSETFROM:+0200
TZOFFSETTO:+0100
TZNAME:CET
DTSTART:20241027T010000
END:STANDARD
BEGIN:DAYLIGHT
TZOFFSETFROM:+0100
TZOFFSETTO:+0200
TZNAME:CEST
DTSTART:20250330T010000
END:DAYLIGHT
BEGIN:STANDARD
TZOFFSETFROM:+0200
TZOFFSETTO:+0100
TZNAME:CET
DTSTART:20251026T010000
END:STANDARD
BEGIN:DAYLIGHT
TZOFFSETFROM:+0100
TZOFFSETTO:+0200
TZNAME:CEST
DTSTART:20260329T010000
END:DAYLIGHT
BEGIN:STANDARD
TZOFFSETFROM:+0200
TZOFFSETTO:+0100
TZNAME:CET
DTSTART:20261025T010000
END:STANDARD
END:VTIMEZONE
BEGIN:VEVENT
DTSTART;TZID=Europe/Berlin:20251114T140000
DTEND;TZID=Europe/Berlin:20251114T180000
DTSTAMP:20260422T032505
CREATED:20251020T052937Z
LAST-MODIFIED:20251021T052239Z
UID:6766-1763128800-1763143200@fachwartverein-ludwigsburg.de
SUMMARY:2. Ludwigsburger Streuobst-Tagung
DESCRIPTION:Veranstaltungsart: offen\, Vortrag\, Tagung \nZielgruppe: Fachwarte\, Interessierte \nVeranstalter: Beratungsstelle Obst- und Gartenbau am Landratsamt Ludwigsburg\, Fachwartverein \nReferenten: Prof. Dr. Michael Weiß\, Dr. Janet Maringer und Christoph Schulz \nAnsprechpartner: Beratungsstelle Obst- und Gartenbau am Landratsamt Ludwigsburg \n  \nAm 14.11.2025 von 14:00 bis 18:00Uhr findet die 2. Ludwigsburger Streuobst-Tagung statt\n\nDie Beratungsstelle Obst- und Gartenbau am Landratsamt Ludwigsburg und der Fachwartverein Ludwigsburg e.V. laden alle Streuobstinteressierten zur Vortragsveranstaltung ein.\n\nZwei interessante Vorträge bringen Impulse für die Streuobstwiese der Zukunft\, es gibt Raum für Ihre Fragen und den Austausch untereinander.\n\nProgramm:\n14:00 Uhr: Begrüßung\n14:15 Uhr: Das Kastanienhof-Projekt: Pflanzenkohle-basierter Dünger aus der Streuobstwiese für die Streuobstwiese\n(Prof. Dr. Michael Weiß\, Steinbeis-Innovationszentrum Organische Mykologie und Mikrobiologie Tübingen) \n15:45 Uhr: Pause \n16:15 Uhr: Streuobstwiese der Zukunft – von der Wurzel her denken\n(Dr. Janet Maringer und Christoph Schulz\, AG Wurzel\, Deutscher Pomologenverein e.V.) \n18:00 Uhr: voraussichtliches Ende der Veranstaltung \nEinlass: ab 13:30 Uhr\, Eintritt frei \nGetränke und kleine Snacks können vor Ort erworben werden. \nFür die Planungen bitten wir um Anmeldung bis 09.11.25 über die Website der Beratungsstelle Obst- und Gartenbau: \nAnmeldung 2. Ludwigsburger Streuobst-Tagung \n\n\n\n\n\n\n\n  \nDie Einladung kann gerne geteilt werden \nDer Flyer steht unter folgendem Link zum Download bereit: Flyer Streuobst-Tagung \nDatum: 14.11.2025 \n\n\nZeit: 14:00Uhr-18:00Uhr \nOrt:\nGemeinschaftshalle Hemmingen\nFriedenstraße 34\n71282 Hemmingen
URL:https://fachwartverein-ludwigsburg.de/termin/2-ludwigsburger-streuobst-tagung/
LOCATION:Gemeindehalle Hemmingen\, Friedenstraße 24\, Hemmingen\, 71282\, Deutschland
CATEGORIES:Empfohlen,Kooperationsveranstaltung,Offene Veranstaltung,Präsenzveranstaltung,Tagung
END:VEVENT
END:VCALENDAR