BEGIN:VCALENDAR
VERSION:2.0
PRODID:-//Fachwartverein Ludwigsburg - ECPv6.15.20//NONSGML v1.0//EN
CALSCALE:GREGORIAN
METHOD:PUBLISH
X-WR-CALNAME:Fachwartverein Ludwigsburg
X-ORIGINAL-URL:https://fachwartverein-ludwigsburg.de
X-WR-CALDESC:Veranstaltungen für Fachwartverein Ludwigsburg
REFRESH-INTERVAL;VALUE=DURATION:PT1H
X-Robots-Tag:noindex
X-PUBLISHED-TTL:PT1H
BEGIN:VTIMEZONE
TZID:Europe/Berlin
BEGIN:DAYLIGHT
TZOFFSETFROM:+0100
TZOFFSETTO:+0200
TZNAME:CEST
DTSTART:20250330T010000
END:DAYLIGHT
BEGIN:STANDARD
TZOFFSETFROM:+0200
TZOFFSETTO:+0100
TZNAME:CET
DTSTART:20251026T010000
END:STANDARD
BEGIN:DAYLIGHT
TZOFFSETFROM:+0100
TZOFFSETTO:+0200
TZNAME:CEST
DTSTART:20260329T010000
END:DAYLIGHT
BEGIN:STANDARD
TZOFFSETFROM:+0200
TZOFFSETTO:+0100
TZNAME:CET
DTSTART:20261025T010000
END:STANDARD
BEGIN:DAYLIGHT
TZOFFSETFROM:+0100
TZOFFSETTO:+0200
TZNAME:CEST
DTSTART:20270328T010000
END:DAYLIGHT
BEGIN:STANDARD
TZOFFSETFROM:+0200
TZOFFSETTO:+0100
TZNAME:CET
DTSTART:20271031T010000
END:STANDARD
END:VTIMEZONE
BEGIN:VEVENT
DTSTART;TZID=Europe/Berlin:20260206T183000
DTEND;TZID=Europe/Berlin:20260206T183000
DTSTAMP:20260421T103348
CREATED:20260115T065629Z
LAST-MODIFIED:20260120T055202Z
UID:6935-1770402600-1770402600@fachwartverein-ludwigsburg.de
SUMMARY:Winterschnittkurs ASS Steinheim Theorie
DESCRIPTION:Veranstaltungsart: extern\, öffentlich\, Präsenz \nZielgruppe: Interessierte \nVeranstalter: ASS Steinheim \nReferentin: Jutta Ziegler \nAnsprechpartner: ASS   ass-steinheim@gmx.de \n  \nAm 06.02.2026 bietet die  Arbeitsgemeinschaft Streuobstwiesen Steinheim e.V. (ASS) einen Winterschnittkurs (Theorieteil) an. \nIn diesem Jahr wollen wir einen etwas umfangreicheren Winterschnittkurs anbieten!\nEinmal Theorie und einmal Praxis! \nDer theoretische Anteil findet am Freitag 06.02.2026 im Bürgersaal im Höpfigheimer Schlössle statt. \nAufgrund der begrenzten Sitzmöglichkeiten im Höpfigheimer Bürgersaal\, bitte wir um eine unverbindliche Anmeldung per Mail.\nDiese verpflichtet nicht zur Teilnahme\, zeigt aber wie stark der Saal belegt sein wird. \nAnmeldung: ass-steinheim@gmx.de \n  \nDer praktische Anteil findet am darauffolgenden\nSamstag\, 07.02.2026\nvon 13:00 bis ca. 16:00 Uhr in Höpfigheim statt. \nDie beiden Teile bauen zwar aufeinander auf\, allerdings ist der Freitagsanteil nicht Voraussetzung für den Samstag.\nWer also nur Samstags kommen kann/will ist hierzu natürlich auch eingeladen.\nDa es sich hierbei um eine öffentliche Veranstaltung handelt\, ist keine Anmeldung erforderlich. \nlesen: www.ass-steinheim.de \n  \nOrt:\nBürgersaal im Höpfigheimer Schlössle\nSchlosshof 7\n71711 Steinheim a.d.Murr \nDatum: 06.02.2026 \nZeit: 18:30 Uhr
URL:https://fachwartverein-ludwigsburg.de/termin/winterschnittkurs-ass-steinheim-theorie/
LOCATION:Höpfigheimer Schloss\, Schlosshof 1\, Steinheim\, 71711
CATEGORIES:Empfohlen,Kurs,Offene Veranstaltung,Präsenzveranstaltung,Schnittkurs,Vortrag
ATTACH;FMTTYPE=image/jpeg:https://fachwartverein-ludwigsburg.de/wp-content/uploads/logo-kl.jpg
ORGANIZER;CN="ASS Steinheim":MAILTO:ass-steinheim@gmx.de
END:VEVENT
BEGIN:VEVENT
DTSTART;TZID=Europe/Berlin:20260207T130000
DTEND;TZID=Europe/Berlin:20260207T130000
DTSTAMP:20260421T103348
CREATED:20260104T173005Z
LAST-MODIFIED:20260120T055524Z
UID:6894-1770469200-1770469200@fachwartverein-ludwigsburg.de
SUMMARY:Winterschnittkurs ASS Steinheim Praxis
DESCRIPTION:Veranstaltungsart: extern\, öffentlich\, Präsenz \nZielgruppe: Interessierte \nVeranstalter: ASS Steinheim \nAnsprechpartner: Martin Schliereke   schriftfuehrer@fachwarte-ludwigsburg.de \n  \nAm 07.02.2026 bietet die  Arbeitsgemeinschaft Streuobstwiesen Steinheim e.V. (ASS) einen Winterschnittkurs (Praxisteil) an. \nIn diesem Jahr wollen wir einen etwas umfangreicheren Winterschnittkurs anbieten!\nEinmal Theorie und einmal Praxis! \nDer theoretische Anteil findet am Freitag 06.02.2026 im Bürgersaal im Höpfigheimer Schlössle statt.\nReferentin: Jutta Ziegler\nBeginn: 18:30 Uhr \nIm Gegensatz zu einem Sommerschnitt\, welcher zur Reduktion des Holzvolumens geeignet ist\, wird mit dem Winterschnitt das Triebwachstum im Frühjahr gesteigert und die Form\ndes Baumes gestaltet. \nDie Experten/innen aus den Reihen der Fachwarte für Obst und Garten im Landkreis Ludwigsburg werden uns auf der ASS-Streuobstwiese kurz in die Theorie einführen und dann an praktischen Beispielen zeigen\, wie sich das umsetzen lässt. \nWir würden uns sehr freuen\, euch zahlreich vor Ort begrüßen zu können. \n  \nAlle Infos zur Veranstaltung gibt es auch auf Homepage des ASS zum Nachlesen: www.ass-steinheim.de \n  \nParkmöglichkeiten:\nBitte nutzt wie bei den letzten Schnittkursen die Parkmöglichkeiten am Ortseingang von Höpfigheim.\nVor Ort ist der Platz leider beschränkt und die alte Verbindungstrasse von Höpfigheim nach Großbottwar sollte für den landwirtschaftlichen Verkehr passierbar bleiben. \nKoordinaten Parkplatz: 48.9840\, 9.2513\n(kopieren und im Internet eingeben) \n  \n\nOrt:\nZum Schnittseminar geht es ca. 5 Minuten zu Fuß auf der alten Verbindungsstraße in Richtung Großbottwar.\nAn der ersten geteerten Abzweigung rechts. \nKoordinaten Veranstaltung: 48.9858\, 9.2577\n(kopieren und im Internet eingeben) \n  \n\n  \nDatum: 07.02.2026 \nZeit: 13:00 Uhr
URL:https://fachwartverein-ludwigsburg.de/termin/winterschnittkurs-ass-steinheim/
LOCATION:Steinheim an der Murr\, Steinheim\, 71711
CATEGORIES:Empfohlen,Externe Veranstaltung,Offene Veranstaltung,Präsenzveranstaltung,Schnittkurs
ATTACH;FMTTYPE=image/jpeg:https://fachwartverein-ludwigsburg.de/wp-content/uploads/logo-kl.jpg
ORGANIZER;CN="ASS Steinheim":MAILTO:ass-steinheim@gmx.de
END:VEVENT
END:VCALENDAR