BEGIN:VCALENDAR
VERSION:2.0
PRODID:-//Fachwartverein Ludwigsburg - ECPv6.15.20//NONSGML v1.0//EN
CALSCALE:GREGORIAN
METHOD:PUBLISH
X-ORIGINAL-URL:https://fachwartverein-ludwigsburg.de
X-WR-CALDESC:Veranstaltungen für Fachwartverein Ludwigsburg
REFRESH-INTERVAL;VALUE=DURATION:PT1H
X-Robots-Tag:noindex
X-PUBLISHED-TTL:PT1H
BEGIN:VTIMEZONE
TZID:Europe/Berlin
BEGIN:DAYLIGHT
TZOFFSETFROM:+0100
TZOFFSETTO:+0200
TZNAME:CEST
DTSTART:20250330T010000
END:DAYLIGHT
BEGIN:STANDARD
TZOFFSETFROM:+0200
TZOFFSETTO:+0100
TZNAME:CET
DTSTART:20251026T010000
END:STANDARD
BEGIN:DAYLIGHT
TZOFFSETFROM:+0100
TZOFFSETTO:+0200
TZNAME:CEST
DTSTART:20260329T010000
END:DAYLIGHT
BEGIN:STANDARD
TZOFFSETFROM:+0200
TZOFFSETTO:+0100
TZNAME:CET
DTSTART:20261025T010000
END:STANDARD
BEGIN:DAYLIGHT
TZOFFSETFROM:+0100
TZOFFSETTO:+0200
TZNAME:CEST
DTSTART:20270328T010000
END:DAYLIGHT
BEGIN:STANDARD
TZOFFSETFROM:+0200
TZOFFSETTO:+0100
TZNAME:CET
DTSTART:20271031T010000
END:STANDARD
END:VTIMEZONE
BEGIN:VEVENT
DTSTART;TZID=Europe/Berlin:20260422T170000
DTEND;TZID=Europe/Berlin:20260422T170000
DTSTAMP:20260420T231614
CREATED:20260222T112724Z
LAST-MODIFIED:20260222T112755Z
UID:6912-1776877200-1776877200@fachwartverein-ludwigsburg.de
SUMMARY:Mitglieder-Versammlung KOGL
DESCRIPTION:Veranstaltungsart: Mitgliederversammlung \nZielgruppe: Mitglieder des Fachwartvereins und OGVs \nVeranstalter: Kreisverband für Obstbau\, Garten und Landschaft Ludwigsburg e.V. (KOGL) \nAnsprechpartner:    gf@kogl-lb.de \n  \nAm Samstag\, den 22.04.2026 findet die Mitgliederversammlung des KOGL statt. \nDie Mitgliederversammlung vom Kreisverband für Obstbau\, Garten und Landschaft Ludwigsburg e.V. findet in der Gemeinschaftshalle Hemmingen am Mittwoch\, 22.04.2026 statt. \nBeginn ist 19:00 Uhr.\nDie Pforten werden aber schon 17:00 Uhr geöffnet\, damit Ihr in Ruhe essen könnt. \nEingeladen sind alle Mitglieder der Ortsvereine vom Kreis Ludwigsburg und Interessierte am Obst- und Gartenbau. \n  \nDatum: 22.04.2026 \nZeit: ab 17:00Uhr \nOrt:\nGemeinschaftshalle Hemmingen\nFriedenstraße 34\n71282 Hemmingen
URL:https://fachwartverein-ludwigsburg.de/termin/mitgliederversammlung-kogl/
LOCATION:Gemeindehalle Hemmingen\, Friedenstraße 24\, Hemmingen\, 71282\, Deutschland
CATEGORIES:Empfohlen,Externe Veranstaltung,Präsenzveranstaltung,Versammlung
ATTACH;FMTTYPE=image/jpeg:https://fachwartverein-ludwigsburg.de/wp-content/uploads/KOGL_Logo_small-scaled.jpg
ORGANIZER;CN="KOGL Ludwigsburg":MAILTO:gf@kogl-lb.de
END:VEVENT
BEGIN:VEVENT
DTSTART;TZID=Europe/Berlin:20260423T183000
DTEND;TZID=Europe/Berlin:20260423T220000
DTSTAMP:20260420T231614
CREATED:20251129T105728Z
LAST-MODIFIED:20260417T145010Z
UID:6785-1776969000-1776981600@fachwartverein-ludwigsburg.de
SUMMARY:10. Stammtisch Fachwartverein
DESCRIPTION:Veranstaltungsart: offen\, Stammtisch \nZielgruppe: Vereinsmitglieder und Interessierte \nVeranstalter: Fachwartverein \nReferent: Christian König \nAnsprechpartner: Corinna Mailänder webmaster@fachwartverein-ludwigsburg.de \n  \nAm 23.04.2026 ab 18:30Uhr findet unser 10. Stammtisch des Fachwartvereins statt.\n\nThema:  Überblick über aktuelle Versuche zu alternativen Obstarten auf dem Obstversuchsgut Heuchlingen\n \n\nChristian König\, Mitarbeiter des Staatlichen Obstversuchsgut Heuchlingen und Landesgruppenvorsitzender des Pomologenvereins\,\nwird uns etwas zu den aktuellen Versuchen berichten und im Anschluss an seinen Vortrag noch gerne Fragen beantworten und in den Austausch gehen. \nDer Vortrag dauert ca. 30-45 Minuten damit genug Zeit für den persönlichen Austausch bleibt. \n\n  \n\n\nIm Anschluss essen wir gemeinsam und sitzen gemütlich zusammen.\n\n\nDurch den Abend führt Corinna Mailänder.\n\nUnverbindliche Anmeldung unter folgendem Link:  Let’s meet Anmeldung Stammtisch\n\nMitglieder und Interessierte sind herzlich willkommen. \n  \nDatum: 23.04.2026 \nZeit: 18:30Uhr-22:00Uhr \nOrt:\nVereinsgaststätte TV Pflugfelden\nKleines Feldle 25\n71636 Ludwigsburg \nEs sind ausreichend Parkplätze vorhanden. \n 
URL:https://fachwartverein-ludwigsburg.de/termin/10-stammtisch-fachwartverein/
LOCATION:Vereinsgaststätte TV Pflugfelden\, Kleines Feldle 25\, Ludwigsburg\, 71636\, Deutschland
CATEGORIES:Empfohlen,Offene Veranstaltung,Präsenzveranstaltung,Stammtisch
ATTACH;FMTTYPE=image/jpeg:https://fachwartverein-ludwigsburg.de/wp-content/uploads/24_04_26.jpg
ORGANIZER;CN="Fachwartverein LB":MAILTO:webmaster@fachwartverein-ludwigsburg.de
END:VEVENT
BEGIN:VEVENT
DTSTART;TZID=Europe/Berlin:20260424T090000
DTEND;TZID=Europe/Berlin:20260424T090000
DTSTAMP:20260420T231614
CREATED:20251221T204658Z
LAST-MODIFIED:20251221T204658Z
UID:6839-1777021200-1777021200@fachwartverein-ludwigsburg.de
SUMMARY:Biodiversitätsflächen im Gemeindegrünraum (online)
DESCRIPTION:Veranstaltungsart: offen\, Vortrag\, Seminar\, online \nZielgruppe: Interessierte und Mitarbeiter im öffentlichen Grün \nVeranstalter: Natur im Garten GmbH \nReferent: Bernhard Haidler \nAnsprechpartner:    post@naturimgarten.at \n  \nAm 24.04.2026 bietet Natur im Garten ein Seminar zum Thema „Biodiversitätsflächen im Gemeindegrünraum“ im Rahmen des monatlichen Gemeinde-Webinars an. \nGrünflächen im Siedlungsgebiet stellen einen großen gesundheitlichen Wert für die Bewohnerinnen und Bewohner dar. Sowohl für die Psyche\, als auch für den Körper (Kühlung\, Reduktion Feinstaubbelastung usw.). \nWenn man es geschickt anstellt\, rückt man mit derartigen Flächen aber auch die Natur ein Stück näher an die Lebenswelt der Menschen heran. Denn mit Blumenwiesen\, Wildstrauchhecken\, Baumraritäten oder Totholz kann man die biologische Vielfalt (Biodiversität) enorm steigern. Die Umgebung wird dadurch nicht nur bunter\, es finden auch Tierarten im Grünraum Lebensraum und Nahrung die hier sonst nicht zu beobachten wären. \nIn diesem Webinar wollen wir Ihnen zeigen\, wie man den öffentlichen Grünraum durch solche Biodiversitätsflächen aufwerten kann und damit die Artenvielfalt in der Gemeinde erhöht. Sie steigern damit die Lebensqualität für Mensch und Tier. \n  \n„Natur im Garten“ lädt jeden letzten Freitag im Monat um 9:00 Uhr zum Gemeinde-Webinar – einem digitalen Treffen von Expertinnen und Experten mit Interessierten im Bereich der ökologischen Gestaltung und Pflege öffentlicher Grünräume. \nMonatlich wird ein anderes aktuelles Thema aufgegriffen und je nach Thema ca. 1h lang im LIVE Gespräch diskutiert. Via Chat können Fragen gestellt werden. \n  \nÜber die Homepage des Anbieters kann man sich für die kompletten Gemeinde-Webinare anmelden oder für einzelne Vorträge. \nFür die Anmeldung nachstehendem Link folgen: Anmeldung und Infos Webinar \nDie Teilnahme ist kostenlos.
URL:https://fachwartverein-ludwigsburg.de/termin/biodiversitaetsflaechen-im-gemeindegruenraum-online/
LOCATION:Online mit Teilnehmerlink
CATEGORIES:Externe Veranstaltung,Offene Veranstaltung,Onlineveranstaltung,Seminar,Vortrag
ATTACH;FMTTYPE=image/jpeg:https://fachwartverein-ludwigsburg.de/wp-content/uploads/Online-veranstaltung-extern.jpg
ORGANIZER;CN="Natur im Garten GmbH":MAILTO:post@naturimgarten.at
END:VEVENT
BEGIN:VEVENT
DTSTART;TZID=Europe/Berlin:20260428T180000
DTEND;TZID=Europe/Berlin:20260428T193000
DTSTAMP:20260420T231614
CREATED:20251221T195551Z
LAST-MODIFIED:20251221T195551Z
UID:6826-1777399200-1777404600@fachwartverein-ludwigsburg.de
SUMMARY:Sämlinge ziehen Obstbaumschnittschule – online
DESCRIPTION:Veranstaltungsart: offen\, online \nZielgruppe: Interessierte \nVeranstalter: Obstbaumschnittschule – Michael Grolm \nKontakt: info@obstbaumschnittschule.de \n  \nAm 28.04.2026 bietet die Obstbaumschnittschule ein Online-Seminar zum Thema Sämlinge ziehen an. \n\nAnleitung zur Anzucht von Obstbäumen aus klimafesten Sämlingen. Die Teilnehmenden lernen\, wie klimaangepasste Sorten entwickelt und gepflegt werden\, um in Zeiten des Klimawandels resiliente Bestände aufzubauen. \n\n  \nEine Anmeldung unter folgendem Link ist notwendig: Anmeldung und Infos Online-Seminar \n  \nUnd so funktioniert es:\n– Seminar zum Preis von 0\,00€ auf der Homepage der Obstbaumschnittschule buchen\n– Seminar anschauen – den Link zur Veranstaltung erhalten Sie mit der Buchungsbestätigung\n– Überweise einen Betrag deines Ermessens auf das Konto der Obstbaumschnittschule:\nIBAN DE67 4306 0967 0031 0367 02\nVerwendungszweck „Vor- & Zuname\, Bestellnummer\, Name Online-Seminar“\n– Nach Zahlungseingang auf unserem Konto erhältst Du eine Rechnung mit den bei der Buchung angegebenen Daten. \n  \nDatum: 28.04.2026 \nZeit: 18:00 Uhr – 19:30 Uhr \nOrt: online mit Teilnehmerlink
URL:https://fachwartverein-ludwigsburg.de/termin/saemlinge-ziehen-obstbaumschnittschule-online/
LOCATION:Online mit Teilnehmerlink
CATEGORIES:Externe Veranstaltung,Offene Veranstaltung,Onlineveranstaltung,Seminar,Vortrag
ATTACH;FMTTYPE=image/jpeg:https://fachwartverein-ludwigsburg.de/wp-content/uploads/Online-veranstaltung-extern.jpg
ORGANIZER;CN="Obstbaumschnittschule":MAILTO:info@obstbaumschnittschule.de
END:VEVENT
BEGIN:VEVENT
DTSTART;TZID=Europe/Berlin:20260428T193000
DTEND;TZID=Europe/Berlin:20260428T210000
DTSTAMP:20260420T231614
CREATED:20260222T100724Z
LAST-MODIFIED:20260222T100724Z
UID:6997-1777404600-1777410000@fachwartverein-ludwigsburg.de
SUMMARY:Planung und Neuanlage von Hochstamm-Produktionssystemen – online
DESCRIPTION:Veranstaltungsart: offen\, online \nZielgruppe: Interessierte \nVeranstalter: Obstbaumschnittschule – Michael Grolm \nKontakt: info@obstbaumschnittschule.de \n  \nAm 28.04.2026 bietet die Obstbaumschnittschule ein Online-Seminar zum Thema Planung und Neuanlage von Hochstamm-Produktionssystemen an. \n\nStreuobstwiesen als klassische Produktions-Systeme bestehen fast unverändert seit mehr als 100 Jahren. \nEine zeitgemäße maschinelle Bewirtschaftung ist in den meisten Beständen nicht möglich. \nBei Neuanlage von modernen Hochstamm-Produktions-Systemen HPS bedarf es einer fachlich fundierten Planung\, um maschinentaugliche und ökonomisch rentable Bestände zu etablieren. Zudem müssen diese für Biodiversität und Sortenvielfalt optimal sein.\nIn diesem Online-Seminar wird anhand von 25 Kriterien eine systematische Planung von modernen\, zukunftsträchtigen Streuobstwiesen vorgestellt. \nDas Seminar kann auf Spendenbasis gebucht werden oder als Theorieeinheit zum dazugehörigen Praxis-Tageskurs. \n\n  \nEine Anmeldung unter folgendem Link ist notwendig: Anmeldung und Infos Online-Seminar \n  \nUnd so funktioniert es:\n– Seminar zum Preis von 0\,00€ auf der Homepage der Obstbaumschnittschule buchen\n– Seminar anschauen – den Link zur Veranstaltung erhalten Sie mit der Buchungsbestätigung\n– Überweise einen Betrag deines Ermessens auf das Konto der Obstbaumschnittschule:\nIBAN DE67 4306 0967 0031 0367 02\nVerwendungszweck „Vor- & Zuname\, Bestellnummer\, Name Online-Seminar“\n– Nach Zahlungseingang auf unserem Konto erhältst Du eine Rechnung mit den bei der Buchung angegebenen Daten. \n  \nDatum: 28.04.2026 \nZeit: 19:30 Uhr – 21:00 Uhr \nOrt: online mit Teilnehmerlink
URL:https://fachwartverein-ludwigsburg.de/termin/planung-und-neuanlage-von-hochstamm-produktionssystemen-online/
LOCATION:Online mit Teilnehmerlink
CATEGORIES:Externe Veranstaltung,Offene Veranstaltung,Onlineveranstaltung,Vortrag
ATTACH;FMTTYPE=image/jpeg:https://fachwartverein-ludwigsburg.de/wp-content/uploads/Online-veranstaltung-extern.jpg
ORGANIZER;CN="Obstbaumschnittschule":MAILTO:info@obstbaumschnittschule.de
END:VEVENT
END:VCALENDAR