BEGIN:VCALENDAR
VERSION:2.0
PRODID:-//Fachwartverein Ludwigsburg - ECPv6.15.20//NONSGML v1.0//EN
CALSCALE:GREGORIAN
METHOD:PUBLISH
X-WR-CALNAME:Fachwartverein Ludwigsburg
X-ORIGINAL-URL:https://fachwartverein-ludwigsburg.de
X-WR-CALDESC:Veranstaltungen für Fachwartverein Ludwigsburg
REFRESH-INTERVAL;VALUE=DURATION:PT1H
X-Robots-Tag:noindex
X-PUBLISHED-TTL:PT1H
BEGIN:VTIMEZONE
TZID:Europe/Berlin
BEGIN:DAYLIGHT
TZOFFSETFROM:+0100
TZOFFSETTO:+0200
TZNAME:CEST
DTSTART:20250330T010000
END:DAYLIGHT
BEGIN:STANDARD
TZOFFSETFROM:+0200
TZOFFSETTO:+0100
TZNAME:CET
DTSTART:20251026T010000
END:STANDARD
BEGIN:DAYLIGHT
TZOFFSETFROM:+0100
TZOFFSETTO:+0200
TZNAME:CEST
DTSTART:20260329T010000
END:DAYLIGHT
BEGIN:STANDARD
TZOFFSETFROM:+0200
TZOFFSETTO:+0100
TZNAME:CET
DTSTART:20261025T010000
END:STANDARD
BEGIN:DAYLIGHT
TZOFFSETFROM:+0100
TZOFFSETTO:+0200
TZNAME:CEST
DTSTART:20270328T010000
END:DAYLIGHT
BEGIN:STANDARD
TZOFFSETFROM:+0200
TZOFFSETTO:+0100
TZNAME:CET
DTSTART:20271031T010000
END:STANDARD
END:VTIMEZONE
BEGIN:VEVENT
DTSTART;TZID=Europe/Berlin:20260626T090000
DTEND;TZID=Europe/Berlin:20260626T090000
DTSTAMP:20260421T025437
CREATED:20251221T212050Z
LAST-MODIFIED:20251221T212050Z
UID:6844-1782464400-1782464400@fachwartverein-ludwigsburg.de
SUMMARY:Innerörtliche Kühlung (online)
DESCRIPTION:Veranstaltungsart: offen\, Vortrag\, Seminar\, online \nZielgruppe: Interessierte und Mitarbeiter im öffentlichen Grün \nVeranstalter: Natur im Garten GmbH \nReferent: Lena Karasek \nAnsprechpartner:    post@naturimgarten.at \n  \nAm 26.06.2026 bietet Natur im Garten ein Seminar zum Thema „Innerörtliche Kühlung für lebenswerte Orte.“ im Rahmen des monatlichen Gemeinde-Webinars an. \nOb im Zentrum einer Stadt oder am kleinen Dorfplatz – Die innerörtliche Kühlung ist in beiden Fällen ein wichtiges Thema\, um Erhitzung versiegelter Räume zu vermeiden und dadurch die Lebensqualität der Bewohnerinnen und Bewohner zu erhöhen. \nEin Zusammenspiel aus Begrünung und durchdachtem Regenwassermanagement schafft Abhilfe bei Hitzeperioden und beeinflusst das menschliche Wohlbefinden enorm. \nIn diesem Webinar zeigen wir dazu gelungene Beispiele aus großen und kleinen Gemeinden. \n  \n„Natur im Garten“ lädt jeden letzten Freitag im Monat um 9:00 Uhr zum Gemeinde-Webinar – einem digitalen Treffen von Expertinnen und Experten mit Interessierten im Bereich der ökologischen Gestaltung und Pflege öffentlicher Grünräume. \nMonatlich wird ein anderes aktuelles Thema aufgegriffen und je nach Thema ca. 1h lang im LIVE Gespräch diskutiert. Via Chat können Fragen gestellt werden. \n  \nÜber die Homepage des Anbieters kann man sich für die kompletten Gemeinde-Webinare anmelden oder für einzelne Vorträge. \nFür die Anmeldung nachstehendem Link folgen: Anmeldung und Infos Webinar \nDie Teilnahme ist kostenlos.
URL:https://fachwartverein-ludwigsburg.de/termin/inneroertliche-kuehlung-online/
LOCATION:Online mit Teilnehmerlink
CATEGORIES:Externe Veranstaltung,Offene Veranstaltung,Onlineveranstaltung,Seminar,Vortrag
ATTACH;FMTTYPE=image/jpeg:https://fachwartverein-ludwigsburg.de/wp-content/uploads/Online-veranstaltung-extern.jpg
ORGANIZER;CN="Natur im Garten GmbH":MAILTO:post@naturimgarten.at
END:VEVENT
END:VCALENDAR