BEGIN:VCALENDAR
VERSION:2.0
PRODID:-//Fachwartverein Ludwigsburg - ECPv6.15.20//NONSGML v1.0//EN
CALSCALE:GREGORIAN
METHOD:PUBLISH
X-WR-CALNAME:Fachwartverein Ludwigsburg
X-ORIGINAL-URL:https://fachwartverein-ludwigsburg.de
X-WR-CALDESC:Veranstaltungen für Fachwartverein Ludwigsburg
REFRESH-INTERVAL;VALUE=DURATION:PT1H
X-Robots-Tag:noindex
X-PUBLISHED-TTL:PT1H
BEGIN:VTIMEZONE
TZID:Europe/Berlin
BEGIN:DAYLIGHT
TZOFFSETFROM:+0100
TZOFFSETTO:+0200
TZNAME:CEST
DTSTART:20250330T010000
END:DAYLIGHT
BEGIN:STANDARD
TZOFFSETFROM:+0200
TZOFFSETTO:+0100
TZNAME:CET
DTSTART:20251026T010000
END:STANDARD
BEGIN:DAYLIGHT
TZOFFSETFROM:+0100
TZOFFSETTO:+0200
TZNAME:CEST
DTSTART:20260329T010000
END:DAYLIGHT
BEGIN:STANDARD
TZOFFSETFROM:+0200
TZOFFSETTO:+0100
TZNAME:CET
DTSTART:20261025T010000
END:STANDARD
BEGIN:DAYLIGHT
TZOFFSETFROM:+0100
TZOFFSETTO:+0200
TZNAME:CEST
DTSTART:20270328T010000
END:DAYLIGHT
BEGIN:STANDARD
TZOFFSETFROM:+0200
TZOFFSETTO:+0100
TZNAME:CET
DTSTART:20271031T010000
END:STANDARD
END:VTIMEZONE
BEGIN:VEVENT
DTSTART;TZID=Europe/Berlin:20260106T190000
DTEND;TZID=Europe/Berlin:20260106T220000
DTSTAMP:20260421T044913
CREATED:20251221T191413Z
LAST-MODIFIED:20251221T191413Z
UID:6814-1767726000-1767736800@fachwartverein-ludwigsburg.de
SUMMARY:Jungbaumschnitt Obstbaumschnittschule – online
DESCRIPTION:Veranstaltungsart: offen\, online \nZielgruppe: Interessierte \nVeranstalter: Obstbaumschnittschule – Michael Grolm \nReferent: Michael Grolm \nKontakt: info@obstbaumschnittschule.de \n  \nAm 06.01.2026 bietet die Obstbaumschnittschule ein Online-Seminar zum Thema Jungbaumschnitt an.\n\nSchritt-für-Schritt-Einführung in die Schnitttechniken bei jungen Obstbäumen. Hier lernen die Teilnehmenden die Grundlagen\, um die Vitalität und optimale Wuchsform der Bäume zu fördern. \n\n  \nEine Anmeldung unter folgendem Link ist notwendig: Anmeldung und Infos Online-Seminar \n\n\nUnd so funktioniert es:\n– Seminar zum Preis von 0\,00€ auf der Homepage der Obstbaumschnittschule buchen\n– Seminar anschauen – den Link zur Veranstaltung erhalten Sie mit der Buchungsbestätigung\n– Überweise einen Betrag deines Ermessens auf das Konto der Obstbaumschnittschule:\nIBAN DE67 4306 0967 0031 0367 02\nVerwendungszweck „Vor- & Zuname\, Bestellnummer\, Name Online-Seminar“\n– Nach Zahlungseingang auf unserem Konto erhältst Du eine Rechnung mit den bei der Buchung angegebenen Daten.\n\n  \nDatum: 06.01.2026 \nZeit: 19:00 Uhr – 22:00 Uhr \nOrt: online mit Teilnehmerlink \n 
URL:https://fachwartverein-ludwigsburg.de/termin/jungbaumschnitt-obstbaumschnittschule-online/
LOCATION:Online mit Teilnehmerlink
CATEGORIES:Externe Veranstaltung,Kurs,Offene Veranstaltung,Onlineveranstaltung,Schnittkurs,Seminar
ATTACH;FMTTYPE=image/jpeg:https://fachwartverein-ludwigsburg.de/wp-content/uploads/Online-veranstaltung-extern.jpg
ORGANIZER;CN="Obstbaumschnittschule":MAILTO:info@obstbaumschnittschule.de
END:VEVENT
BEGIN:VEVENT
DTSTART;TZID=Europe/Berlin:20260112T180000
DTEND;TZID=Europe/Berlin:20260112T183000
DTSTAMP:20260421T044913
CREATED:20251221T210753Z
LAST-MODIFIED:20251221T212307Z
UID:6846-1768240800-1768242600@fachwartverein-ludwigsburg.de
SUMMARY:Pflanze Kräuter - würze Dein Leben! (online)
DESCRIPTION:Veranstaltungsart: offen\, Vortrag\, Seminar\, online \nZielgruppe: Interessierte und Mitarbeiter im öffentlichen Grün \nVeranstalter: Natur im Garten GmbH \nAnsprechpartner:    post@naturimgarten.at \n  \nAm 12.01.2026 bietet Natur im Garten ein Online-Seminar zum Thema „Pflanze Kräuter – würze Dein Leben!“ an. \nMit der Webinar-Reihe „Gartentipp“ erhält man 2 mal wöchentlich – jeden Montag und Mittwoch um 18:00 Uhr (Dauer ca. 30 Minuten) – live frische Garten-News v​​on den „Natur im Garten“ Fachleuten. \nÜber die Homepage des Anbieters kann man sich für die kompletten Webinare anmelden oder für einzelne Vorträge. \nFür die Anmeldung nachstehendem Link folgen: Anmeldung und Infos Webinar \nDie Teilnahme ist kostenlos. \n 
URL:https://fachwartverein-ludwigsburg.de/termin/pflanze-kraeuter-wuerze-dein-leben-online/
LOCATION:Online mit Teilnehmerlink
CATEGORIES:Externe Veranstaltung,Offene Veranstaltung,Onlineveranstaltung,Vortrag
ATTACH;FMTTYPE=image/jpeg:https://fachwartverein-ludwigsburg.de/wp-content/uploads/Online-veranstaltung-extern.jpg
ORGANIZER;CN="Natur im Garten GmbH":MAILTO:post@naturimgarten.at
END:VEVENT
BEGIN:VEVENT
DTSTART;TZID=Europe/Berlin:20260113T190000
DTEND;TZID=Europe/Berlin:20260113T220000
DTSTAMP:20260421T044913
CREATED:20251221T200329Z
LAST-MODIFIED:20251221T200329Z
UID:6829-1768330800-1768341600@fachwartverein-ludwigsburg.de
SUMMARY:Obstbaumpflanzung Obstbaumschnittschule – online
DESCRIPTION:Veranstaltungsart: offen\, online \nZielgruppe: Interessierte \nVeranstalter: Obstbaumschnittschule – Michael Grolm \nKontakt: info@obstbaumschnittschule.de \n  \nAm 13.01.2026 bietet die Obstbaumschnittschule ein Online-Seminar zum Thema Obstbaumpflanzung ziehen an. \n\nPraktische Anleitung zur sicheren Pflanzung von Obstbäumen. Besondere Beachtung gilt dem Schutz vor Wühlmäusen durch den Einsatz von Wühlmauskörben und dem Normannischen Korsett als Schutz vor Verbiss bei beweideten Streuobstwiesen. \n\n  \nEine Anmeldung unter folgendem Link ist notwendig: Anmeldung und Infos Online-Seminar \n  \nUnd so funktioniert es:\n– Seminar zum Preis von 0\,00€ auf der Homepage der Obstbaumschnittschule buchen\n– Seminar anschauen – den Link zur Veranstaltung erhalten Sie mit der Buchungsbestätigung\n– Überweise einen Betrag deines Ermessens auf das Konto der Obstbaumschnittschule:\nIBAN DE67 4306 0967 0031 0367 02\nVerwendungszweck „Vor- & Zuname\, Bestellnummer\, Name Online-Seminar“\n– Nach Zahlungseingang auf unserem Konto erhältst Du eine Rechnung mit den bei der Buchung angegebenen Daten. \n  \nDatum: 13.01.2026 \nZeit: 19:00 Uhr – 22:00 Uhr \nOrt: online mit Teilnehmerlink
URL:https://fachwartverein-ludwigsburg.de/termin/obstbaumpflanzung-obstbaumschnittschule-online/
LOCATION:Online mit Teilnehmerlink
CATEGORIES:Externe Veranstaltung,Offene Veranstaltung,Onlineveranstaltung,Seminar,Vortrag
ATTACH;FMTTYPE=image/jpeg:https://fachwartverein-ludwigsburg.de/wp-content/uploads/Online-veranstaltung-extern.jpg
ORGANIZER;CN="Obstbaumschnittschule":MAILTO:info@obstbaumschnittschule.de
END:VEVENT
BEGIN:VEVENT
DTSTART;TZID=Europe/Berlin:20260114T180000
DTEND;TZID=Europe/Berlin:20260114T183000
DTSTAMP:20260421T044913
CREATED:20251221T211436Z
LAST-MODIFIED:20251221T212344Z
UID:6849-1768413600-1768415400@fachwartverein-ludwigsburg.de
SUMMARY:Kresse und andere Kräuter fürs Fensterbrett (online)
DESCRIPTION:Veranstaltungsart: offen\, Vortrag\, Seminar\, online \nZielgruppe: Interessierte und Mitarbeiter im öffentlichen Grün \nVeranstalter: Natur im Garten GmbH \nAnsprechpartner:    post@naturimgarten.at \n  \nAm 12.01.2026 bietet Natur im Garten ein Online-Seminar zum Thema „Kresse und andere Kräuter fürs Fensterbrett“ an. \nMit der Webinar-Reihe „Gartentipp“ erhält man 2 mal wöchentlich – jeden Montag und Mittwoch um 18:00 Uhr (Dauer ca. 30 Minuten) – live frische Garten-News v​​on den „Natur im Garten“ Fachleuten. \nÜber die Homepage des Anbieters kann man sich für die kompletten Webinare anmelden oder für einzelne Vorträge. \nFür die Anmeldung nachstehendem Link folgen: Anmeldung und Infos Webinar \nDie Teilnahme ist kostenlos. \n 
URL:https://fachwartverein-ludwigsburg.de/termin/kresse-und-andere-kraeuter-fuers-fensterbrett-online/
LOCATION:Online mit Teilnehmerlink
CATEGORIES:Externe Veranstaltung,Offene Veranstaltung,Onlineveranstaltung,Vortrag
ATTACH;FMTTYPE=image/jpeg:https://fachwartverein-ludwigsburg.de/wp-content/uploads/Online-veranstaltung-extern.jpg
ORGANIZER;CN="Natur im Garten GmbH":MAILTO:post@naturimgarten.at
END:VEVENT
BEGIN:VEVENT
DTSTART;TZID=Europe/Berlin:20260115T183000
DTEND;TZID=Europe/Berlin:20260115T220000
DTSTAMP:20260421T044913
CREATED:20251129T105034Z
LAST-MODIFIED:20260104T163341Z
UID:6782-1768501800-1768514400@fachwartverein-ludwigsburg.de
SUMMARY:9. Stammtisch Fachwartverein
DESCRIPTION:Veranstaltungsart: offen\, Stammtisch \nZielgruppe: Vereinsmitglieder und Interessierte \nVeranstalter: Fachwartverein \nReferentin: Corinna Mailänder \nAnsprechpartner: Corinna Mailänder webmaster@fachwartverein-ludwigsburg.de \n  \nAm 15.01.2026 ab 18:30Uhr findet unser 9. Stammtisch des Fachwartvereins statt.\n\nThema: „Herzlich willkommen – der Fachwartverein stellt sich vor.“\n \n\nDu bist neu im Fachwartverein\, möchtest mehr über uns erfahren oder möchtest deine Fachwartkollegen treffen?\nDann bist Du hier genau richtig. \nBeim ersten Stammtisch im Jahr 2026 erfahrt ihr\, was der Fachwartverein so macht und wer die einzelnen Aktionen organisiert und wer die Ansprechpartner sind. \nEs stellen sich die Vorstände und der Beirat vor und laden zum Austausch unter den Fachwarten ein. \n  \n\nEine Anmeldung bis zum 11.01.2026 ist notwendig: Anmeldung 9. Stammtisch Fachwartverein \n\n\nMindestteilnehmer: 15 Personen\n\n\nEs wird gemütlich gegessen und sich ausgetauscht.\n\n\nDurch den Abend führt wieder unser Moderator Christian Nicolai.\n\nMitglieder und Interessierte sind herzlich willkommen. \n  \nDatum: 15.01.2026 \nZeit: 18:30Uhr-22:00Uhr \nOrt:\nVereinsgaststätte TV Pflugfelden\nKleines Feldle 25\n71636 Ludwigsburg \nEs sind ausreichend Parkplätze vorhanden. \n  \n 
URL:https://fachwartverein-ludwigsburg.de/termin/9-stammtisch-fachwartverein/
LOCATION:Vereinsgaststätte TV Pflugfelden\, Kleines Feldle 25\, Ludwigsburg\, 71636\, Deutschland
CATEGORIES:Empfohlen,Offene Veranstaltung,Präsenzveranstaltung,Stammtisch,Vortrag
ATTACH;FMTTYPE=image/jpeg:https://fachwartverein-ludwigsburg.de/wp-content/uploads/16_01_26.jpg
ORGANIZER;CN="Fachwartverein LB":MAILTO:webmaster@fachwartverein-ludwigsburg.de
END:VEVENT
BEGIN:VEVENT
DTSTART;TZID=Europe/Berlin:20260118T140000
DTEND;TZID=Europe/Berlin:20260118T140000
DTSTAMP:20260421T044913
CREATED:20260115T071739Z
LAST-MODIFIED:20260115T071739Z
UID:6941-1768744800-1768744800@fachwartverein-ludwigsburg.de
SUMMARY:Essbare Bäume und Sträucher im Winter – Führung
DESCRIPTION:Veranstaltungsart: offen\, Führung\, Präsenz \nZielgruppe: Interessierte \nVeranstalter: Hohenheimer Gärten – Uni Hohenheim \nReferent: Dr. Christine Volm \nAnsprechpartner:    info@christine-volm.de \n  \nAm 18.01.2026 bietet die Uni Hohenheim eine Führung zum Thema „Essbare Bäume und Sträucher im Winter“ an. \nSonntags finden in den Hohenheimer Gärten Führungen Statt. \nDie Führungen dauern 1-1\,5 Stunden und sind für Familien geeignet. \nEine Anmeldungen sind nur nötig\, wenn angegeben. \nKosten: 8€ \nDatum: 18.01.2026 \nZeit: 14:00 Uhr \nTreffpunkt:\nSpielhaus im Exotischen Garten \n  \nDen Flyer zum Download der Führungen gibt es hier: Flyer Hohenheimer Gärten
URL:https://fachwartverein-ludwigsburg.de/termin/essbare-baeume-und-straeucher-im-winter-fuehrung/
LOCATION:Hohenheimer Gärten\, Garbenstr.30\, Stuttgart\, 70599
CATEGORIES:Ausflug,Externe Veranstaltung,Führung,Offene Veranstaltung,Präsenzveranstaltung
ATTACH;FMTTYPE=image/jpeg:https://fachwartverein-ludwigsburg.de/wp-content/uploads/praesenz-veranstaltung-extern.jpg
END:VEVENT
BEGIN:VEVENT
DTSTART;TZID=Europe/Berlin:20260119T180000
DTEND;TZID=Europe/Berlin:20260119T183000
DTSTAMP:20260421T044913
CREATED:20251221T211933Z
LAST-MODIFIED:20251221T211933Z
UID:6851-1768845600-1768847400@fachwartverein-ludwigsburg.de
SUMMARY:Käfer im Garten fördern (online)
DESCRIPTION:Veranstaltungsart: offen\, Vortrag\, Seminar\, online \nZielgruppe: Interessierte und Mitarbeiter im öffentlichen Grün \nVeranstalter: Natur im Garten GmbH \nAnsprechpartner:    post@naturimgarten.at \n  \nAm 19.01.2026 bietet Natur im Garten ein Online-Seminar zum Thema „Käfer im Garten fördern“ an. \nMit der Webinar-Reihe „Gartentipp“ erhält man 2 mal wöchentlich – jeden Montag und Mittwoch um 18:00 Uhr (Dauer ca. 30 Minuten) – live frische Garten-News v​​on den „Natur im Garten“ Fachleuten. \nÜber die Homepage des Anbieters kann man sich für die kompletten Webinare anmelden oder für einzelne Vorträge. \nFür die Anmeldung nachstehendem Link folgen: Anmeldung und Infos Webinar \nDie Teilnahme ist kostenlos.
URL:https://fachwartverein-ludwigsburg.de/termin/kaefer-im-garten-foerdern-online/
LOCATION:Online mit Teilnehmerlink
CATEGORIES:Externe Veranstaltung,Offene Veranstaltung,Onlineveranstaltung,Vortrag
ATTACH;FMTTYPE=image/jpeg:https://fachwartverein-ludwigsburg.de/wp-content/uploads/Online-veranstaltung-extern.jpg
ORGANIZER;CN="Natur im Garten GmbH":MAILTO:post@naturimgarten.at
END:VEVENT
BEGIN:VEVENT
DTSTART;TZID=Europe/Berlin:20260120T190000
DTEND;TZID=Europe/Berlin:20260120T210000
DTSTAMP:20260421T044913
CREATED:20251221T193526Z
LAST-MODIFIED:20251221T193526Z
UID:6820-1768935600-1768942800@fachwartverein-ludwigsburg.de
SUMMARY:Umstellbaumschnitt Obstbaumschnittschule – online
DESCRIPTION:Veranstaltungsart: offen\, online \nZielgruppe: Interessierte \nVeranstalter: Obstbaumschnittschule – Michael Grolm \nReferent: Michael Grolm \nKontakt: info@obstbaumschnittschule.de \n  \nAm 20.01.2026 bietet die Obstbaumschnittschule ein Online-Seminar zum Thema Umstellbaumschnitt an. \nDiese Technik hilft Ihnen bei der Anpassung an eine neues Schnittsystem\, welches die langfristige Gesundheit und den Ertrag des Baumes fördert . \n  \nEine Anmeldung unter folgendem Link ist notwendig: Anmeldung und Infos Online-Seminar \n  \nUnd so funktioniert es:\n– Seminar zum Preis von 0\,00€ auf der Homepage der Obstbaumschnittschule buchen\n– Seminar anschauen – den Link zur Veranstaltung erhalten Sie mit der Buchungsbestätigung\n– Überweise einen Betrag deines Ermessens auf das Konto der Obstbaumschnittschule:\nIBAN DE67 4306 0967 0031 0367 02\nVerwendungszweck „Vor- & Zuname\, Bestellnummer\, Name Online-Seminar“\n– Nach Zahlungseingang auf unserem Konto erhältst Du eine Rechnung mit den bei der Buchung angegebenen Daten. \n  \nDatum: 20.01.2026 \nZeit: 19:00 Uhr – 21:00 Uhr \nOrt: online mit Teilnehmerlink
URL:https://fachwartverein-ludwigsburg.de/termin/umstellbaumschnitt-obstbaumschnittschule-online/
LOCATION:Online mit Teilnehmerlink
CATEGORIES:Externe Veranstaltung,Offene Veranstaltung,Onlineveranstaltung,Schnittkurs,Seminar
ATTACH;FMTTYPE=image/jpeg:https://fachwartverein-ludwigsburg.de/wp-content/uploads/Online-veranstaltung-extern.jpg
ORGANIZER;CN="Obstbaumschnittschule":MAILTO:info@obstbaumschnittschule.de
END:VEVENT
BEGIN:VEVENT
DTSTART;TZID=Europe/Berlin:20260121T180000
DTEND;TZID=Europe/Berlin:20260121T183000
DTSTAMP:20260421T044913
CREATED:20251221T212727Z
LAST-MODIFIED:20251221T212727Z
UID:6856-1769018400-1769020200@fachwartverein-ludwigsburg.de
SUMMARY:Schildläuse auf Zimmerpflanzen (online)
DESCRIPTION:Veranstaltungsart: offen\, Vortrag\, Seminar\, online \nZielgruppe: Interessierte und Mitarbeiter im öffentlichen Grün \nVeranstalter: Natur im Garten GmbH \nAnsprechpartner:    post@naturimgarten.at \n  \nAm 21.01.2026 bietet Natur im Garten ein Online-Seminar zum Thema „Schildläuse auf Zimmerpflanzen“ an. \nMit der Webinar-Reihe „Gartentipp“ erhält man 2 mal wöchentlich – jeden Montag und Mittwoch um 18:00 Uhr (Dauer ca. 30 Minuten) – live frische Garten-News v​​on den „Natur im Garten“ Fachleuten. \nÜber die Homepage des Anbieters kann man sich für die kompletten Webinare anmelden oder für einzelne Vorträge. \nFür die Anmeldung nachstehendem Link folgen: Anmeldung und Infos Webinar \nDie Teilnahme ist kostenlos.
URL:https://fachwartverein-ludwigsburg.de/termin/schildlaeuse-auf-zimmerpflanzen-online/
LOCATION:Online mit Teilnehmerlink
CATEGORIES:Externe Veranstaltung,Offene Veranstaltung,Onlineveranstaltung,Vortrag
ATTACH;FMTTYPE=image/jpeg:https://fachwartverein-ludwigsburg.de/wp-content/uploads/Online-veranstaltung-extern.jpg
ORGANIZER;CN="Natur im Garten GmbH":MAILTO:post@naturimgarten.at
END:VEVENT
BEGIN:VEVENT
DTSTART;TZID=Europe/Berlin:20260126T180000
DTEND;TZID=Europe/Berlin:20260126T183000
DTSTAMP:20260421T044913
CREATED:20251221T213016Z
LAST-MODIFIED:20251221T213016Z
UID:6858-1769450400-1769452200@fachwartverein-ludwigsburg.de
SUMMARY:Kletternde Klimaanlagen (online)
DESCRIPTION:Veranstaltungsart: offen\, Vortrag\, Seminar\, online \nZielgruppe: Interessierte und Mitarbeiter im öffentlichen Grün \nVeranstalter: Natur im Garten GmbH \nAnsprechpartner:    post@naturimgarten.at \n  \nAm 26.01.2026 bietet Natur im Garten ein Online-Seminar zum Thema „Kletternde Klimaanlagen“ an. \nMit der Webinar-Reihe „Gartentipp“ erhält man 2 mal wöchentlich – jeden Montag und Mittwoch um 18:00 Uhr (Dauer ca. 30 Minuten) – live frische Garten-News v​​on den „Natur im Garten“ Fachleuten. \nÜber die Homepage des Anbieters kann man sich für die kompletten Webinare anmelden oder für einzelne Vorträge. \nFür die Anmeldung nachstehendem Link folgen: Anmeldung und Infos Webinar \nDie Teilnahme ist kostenlos.
URL:https://fachwartverein-ludwigsburg.de/termin/kletternde-klimaanlagen-online/
LOCATION:Online mit Teilnehmerlink
CATEGORIES:Externe Veranstaltung,Offene Veranstaltung,Onlineveranstaltung,Vortrag
ATTACH;FMTTYPE=image/jpeg:https://fachwartverein-ludwigsburg.de/wp-content/uploads/Online-veranstaltung-extern.jpg
ORGANIZER;CN="Natur im Garten GmbH":MAILTO:post@naturimgarten.at
END:VEVENT
BEGIN:VEVENT
DTSTART;TZID=Europe/Berlin:20260127T190000
DTEND;TZID=Europe/Berlin:20260127T220000
DTSTAMP:20260421T044913
CREATED:20251221T194647Z
LAST-MODIFIED:20251221T194647Z
UID:6824-1769540400-1769551200@fachwartverein-ludwigsburg.de
SUMMARY:Hecken- und Baumlandschaften – online
DESCRIPTION:Veranstaltungsart: offen\, online \nZielgruppe: Interessierte \nVeranstalter: Obstbaumschnittschule – Michael Grolm \nKontakt: info@obstbaumschnittschule.de \n  \nAm 27.01.2026 bietet die Obstbaumschnittschule ein Online-Seminar zum Thema Hecken- und Baumlandschaften an. \nEin geschichtlicher Rückblick auf die Entwicklung von Hecken- und Baumlandschaften in Europa. Das Seminar zeigt\, wie sich diese Kulturlandschaften entwickelt haben und welche Rolle sie heute und in der Zukunft spielen könnten. \n  \nEine Anmeldung unter folgendem Link ist notwendig: Anmeldung und Infos Online-Seminar \n  \nUnd so funktioniert es:\n– Seminar zum Preis von 0\,00€ auf der Homepage der Obstbaumschnittschule buchen\n– Seminar anschauen – den Link zur Veranstaltung erhalten Sie mit der Buchungsbestätigung\n– Überweise einen Betrag deines Ermessens auf das Konto der Obstbaumschnittschule:\nIBAN DE67 4306 0967 0031 0367 02\nVerwendungszweck „Vor- & Zuname\, Bestellnummer\, Name Online-Seminar“\n– Nach Zahlungseingang auf unserem Konto erhältst Du eine Rechnung mit den bei der Buchung angegebenen Daten. \n  \nDatum: 27.01.2026 \nZeit: 19:00 Uhr – 22:00 Uhr \nOrt: online mit Teilnehmerlink
URL:https://fachwartverein-ludwigsburg.de/termin/hecken-und-baumlandschaften-online/
LOCATION:Online mit Teilnehmerlink
CATEGORIES:Externe Veranstaltung,Offene Veranstaltung,Onlineveranstaltung,Seminar,Vortrag
ATTACH;FMTTYPE=image/jpeg:https://fachwartverein-ludwigsburg.de/wp-content/uploads/Online-veranstaltung-extern.jpg
ORGANIZER;CN="Obstbaumschnittschule":MAILTO:info@obstbaumschnittschule.de
END:VEVENT
BEGIN:VEVENT
DTSTART;TZID=Europe/Berlin:20260128T180000
DTEND;TZID=Europe/Berlin:20260128T183000
DTSTAMP:20260421T044913
CREATED:20251221T213453Z
LAST-MODIFIED:20251221T213453Z
UID:6860-1769623200-1769625000@fachwartverein-ludwigsburg.de
SUMMARY:Frühblüher – wertvoll für Bestäuber (online)
DESCRIPTION:Veranstaltungsart: offen\, Vortrag\, Seminar\, online \nZielgruppe: Interessierte und Mitarbeiter im öffentlichen Grün \nVeranstalter: Natur im Garten GmbH \nAnsprechpartner:    post@naturimgarten.at \n  \nAm 28.01.2026 bietet Natur im Garten ein Online-Seminar zum Thema „Frühblüher – wertvoll für Bestäuber“ an. \nMit der Webinar-Reihe „Gartentipp“ erhält man 2 mal wöchentlich – jeden Montag und Mittwoch um 18:00 Uhr (Dauer ca. 30 Minuten) – live frische Garten-News v​​on den „Natur im Garten“ Fachleuten. \nÜber die Homepage des Anbieters kann man sich für die kompletten Webinare anmelden oder für einzelne Vorträge. \nFür die Anmeldung nachstehendem Link folgen: Anmeldung und Infos Webinar \nDie Teilnahme ist kostenlos.
URL:https://fachwartverein-ludwigsburg.de/termin/fruehblueher-wertvoll-fuer-bestaeuber-online/
LOCATION:Online mit Teilnehmerlink
CATEGORIES:Externe Veranstaltung,Offene Veranstaltung,Onlineveranstaltung,Vortrag
ATTACH;FMTTYPE=image/jpeg:https://fachwartverein-ludwigsburg.de/wp-content/uploads/Online-veranstaltung-extern.jpg
ORGANIZER;CN="Natur im Garten GmbH":MAILTO:post@naturimgarten.at
END:VEVENT
BEGIN:VEVENT
DTSTART;TZID=Europe/Berlin:20260130T090000
DTEND;TZID=Europe/Berlin:20260130T090000
DTSTAMP:20260421T044913
CREATED:20251221T202352Z
LAST-MODIFIED:20251221T202352Z
UID:6831-1769763600-1769763600@fachwartverein-ludwigsburg.de
SUMMARY:Torf ade (online)
DESCRIPTION:Veranstaltungsart: offen\, Vortrag\, Seminar\, online \nZielgruppe: Interessierte und Mitarbeiter im öffentlichen Grün \nVeranstalter: Natur im Garten GmbH \nReferent: Theresa Bachmayr \nAnsprechpartner:    post@naturimgarten.at \n  \nAm 30.01.2026 bietet Natur im Garten ein Seminar zum Thema „Torf ade! Wie die Gemeinde auch ohne Torf aufblüht.“ im Rahmen des monatlichen Gemeinde-Webinars an. \nDie Verwendung von torffreien Erden in der Gemeinde ist ein wichtiger Beitrag zum Arten- und Klimaschutz. In diesem Webinar erfahren Sie\, worauf es beim Erdenkauf ankommt\, wie Erde optimal gelagert wird und was das Spezielle an torffreien Erden ist. \nTorffreie Erden sind lebendig. Sie sind ein Komplex aus organischen und anorganischen Bestandteilen und haben daher unterschiedliche Eigenschaften.\nDamit vitale und schön blühende Pflanzen auch in Ihrer Gemeinde gedeihen\, sollte ein besonderes Augenmerk auf das das Gießen und Düngen gelegt werden. \nWir stellen Ihnen im Webinar zudem vor\, wie die Wasserversorgung im Trog optimiert werden kann\, und worauf es bei der Nachdüngung mit organischen Flüssigdüngern ankommt\, damit die Pflanzen in Ihrer Gemeinde gut versorgt sind. \n  \n„Natur im Garten“ lädt jeden letzten Freitag im Monat um 9:00 Uhr zum Gemeinde-Webinar – einem digitalen Treffen von Expertinnen und Experten mit Interessierten im Bereich der ökologischen Gestaltung und Pflege öffentlicher Grünräume. \nMonatlich wird ein anderes aktuelles Thema aufgegriffen und je nach Thema ca. 1h lang im LIVE Gespräch diskutiert. Via Chat können Fragen gestellt werden. \n  \nÜber die Homepage des Anbieters kann man sich für die kompletten Gemeinde-Webinare anmelden oder für einzelne Vorträge. \nFür die Anmeldung nachstehendem Link folgen: Anmeldung und Infos Webinar \nDie Teilnahme ist kostenlos.
URL:https://fachwartverein-ludwigsburg.de/termin/torf-ade-online/
LOCATION:Online mit Teilnehmerlink
CATEGORIES:Externe Veranstaltung,Offene Veranstaltung,Onlineveranstaltung,Seminar,Vortrag
ATTACH;FMTTYPE=image/jpeg:https://fachwartverein-ludwigsburg.de/wp-content/uploads/Online-veranstaltung-extern.jpg
ORGANIZER;CN="Natur im Garten GmbH":MAILTO:post@naturimgarten.at
END:VEVENT
END:VCALENDAR